OziExplorer Map Data File Version 2.2
T48-19-20-21.jpg
Y:\ozi_map\work_map\2\1+1+1\t48-19-20-21.jpg
1 ,Map Code,
Pulkovo 1942 (2),, 0.0000, 0.0000,WGS 84
Reserved 1
Reserved 2
Magnetic Variation,,,E
Map Projection,Transverse Mercator,PolyCal,No,AutoCalOnly,No,BSBUseWPX,No
Point01,xy, 223, 167,in, deg, 78, 0,N, 102, 0,E, grid, , , ,N
Point02,xy, 2280, 210,in, deg, 78, 0,N, 103, 30,E, grid, , , ,N
Point03,xy, 4342, 194,in, deg, 78, 0,N, 105, 0,E, grid, , , ,N
Point04,xy, 153, 2364,in, deg, 77, 40,N, 102, 0,E, grid, , , ,N
Point05,xy, 2266, 2408,in, deg, 77, 40,N, 103, 30,E, grid, , , ,N
Point06,xy, 4383, 2393,in, deg, 77, 40,N, 105, 0,E, grid, , , ,N
Point07,xy, 85, 4566,in, deg, 77, 20,N, 102, 0,E, grid, , , ,N
Point08,xy, 2253, 4608,in, deg, 77, 20,N, 103, 30,E, grid, , , ,N
Point09,xy, 4426, 4591,in, deg, 77, 20,N, 105, 0,E, grid, , , ,N
Point10,xy, , ,in, deg, , ,, , ,, grid, , , ,
Point11,xy, , ,in, deg, , ,, , ,, grid, , , ,
Point12,xy, , ,in, deg, , ,, , ,, grid, , , ,
Point13,xy, , ,in, deg, , ,, , ,, grid, , , ,
Point14,xy, , ,in, deg, , ,, , ,, grid, , , ,
Point15,xy, , ,in, deg, , ,, , ,, grid, , , ,
Point16,xy, , ,in, deg, , ,, , ,, grid, , , ,
Point17,xy, , ,in, deg, , ,, , ,, grid, , , ,
Point18,xy, , ,in, deg, , ,, , ,, grid, , , ,
Point19,xy, , ,in, deg, , ,, , ,, grid, , , ,
Point20,xy, , ,in, deg, , ,, , ,, grid, , , ,
Point21,xy, , ,in, deg, , ,, , ,, grid, , , ,
Point22,xy, , ,in, deg, , ,, , ,, grid, , , ,
Point23,xy, , ,in, deg, , ,, , ,, grid, , , ,
Point24,xy, , ,in, deg, , ,, , ,, grid, , , ,
Point25,xy, , ,in, deg, , ,, , ,, grid, , , ,
Point26,xy, , ,in, deg, , ,, , ,, grid, , , ,
Point27,xy, , ,in, deg, , ,, , ,, grid, , , ,
Point28,xy, , ,in, deg, , ,, , ,, grid, , , ,
Point29,xy, , ,in, deg, , ,, , ,, grid, , , ,
Point30,xy, , ,in, deg, , ,, , ,, grid, , , ,
Projection Setup, 0.000000000, 105.000000000, 1.000000000, 500000.00, 0.00,,,,,
Map Feature = MF ; Map Comment = MC These follow if they exist
Track File = TF These follow if they exist
Moving Map Parameters = MM? These follow if they exist
MM0,Yes
MMPNUM,4
MMPXY,1,220,164
MMPXY,2,4347,191
MMPXY,3,4430,4594
MMPXY,4,83,4569
MMPLL,1, 101.997911, 78.000593
MMPLL,2, 105.005026, 78.000494
MMPLL,3, 105.002969, 77.333099
MMPLL,4, 101.999950, 77.332724
MM1B,16.906252
Other Grid Setup
GRGRID,Yes,4 Km,No,16711680,255,4 Km,0,16777215,8,1,Yes,No,No,x
MOP,Map Open Position,0,0
IWH,Map Image Width/Height,4532,4701
