OziExplorer Map Data File Version 2.2
T48-10-11-12.jpg
Y:\ozi_map\work_map\2\1+1+1\t48-10-11-12.jpg
1 ,Map Code,
Pulkovo 1942 (2),, 0.0000, 0.0000,WGS 84
Reserved 1
Reserved 2
Magnetic Variation,,,E
Map Projection,Transverse Mercator,PolyCal,No,AutoCalOnly,No,BSBUseWPX,No
Point01,xy, 172, 248,in, deg, 79, 20.0000,N, 105, 0.0000,E, grid, , , ,N
Point02,xy, 2005, 254,in, deg, 79, 20.0000,N, 106, 30.0000,E, grid, , , ,N
Point03,xy, 3841, 206,in, deg, 79, 20.0000,N, 108, 0.0000,E, grid, , , ,N
Point04,xy, 145, 2445,in, deg, 79, 0.0000,N, 105, 0.0000,E, grid, , , ,N
Point05,xy, 2035, 2448,in, deg, 79, 0.0000,N, 106, 30.0000,E, grid, , , ,N
Point06,xy, 3922, 2403,in, deg, 79, 0.0000,N, 108, 0.0000,E, grid, , , ,N
Point07,xy, 117, 4645,in, deg, 78, 40.0000,N, 105, 0.0000,E, grid, , , ,N
Point08,xy, 2062, 4647,in, deg, 78, 40.0000,N, 106, 30.0000,E, grid, , , ,N
Point09,xy, 4005, 4599,in, deg, 78, 40.0000,N, 108, 0.0000,E, grid, , , ,N
Point10,xy, , ,in, deg, , ,, , ,, grid, , , ,
Point11,xy, , ,in, deg, , ,, , ,, grid, , , ,
Point12,xy, , ,in, deg, , ,, , ,, grid, , , ,
Point13,xy, , ,in, deg, , ,, , ,, grid, , , ,
Point14,xy, , ,in, deg, , ,, , ,, grid, , , ,
Point15,xy, , ,in, deg, , ,, , ,, grid, , , ,
Point16,xy, , ,in, deg, , ,, , ,, grid, , , ,
Point17,xy, , ,in, deg, , ,, , ,, grid, , , ,
Point18,xy, , ,in, deg, , ,, , ,, grid, , , ,
Point19,xy, , ,in, deg, , ,, , ,, grid, , , ,
Point20,xy, , ,in, deg, , ,, , ,, grid, , , ,
Point21,xy, , ,in, deg, , ,, , ,, grid, , , ,
Point22,xy, , ,in, deg, , ,, , ,, grid, , , ,
Point23,xy, , ,in, deg, , ,, , ,, grid, , , ,
Point24,xy, , ,in, deg, , ,, , ,, grid, , , ,
Point25,xy, , ,in, deg, , ,, , ,, grid, , , ,
Point26,xy, , ,in, deg, , ,, , ,, grid, , , ,
Point27,xy, , ,in, deg, , ,, , ,, grid, , , ,
Point28,xy, , ,in, deg, , ,, , ,, grid, , , ,
Point29,xy, , ,in, deg, , ,, , ,, grid, , , ,
Point30,xy, , ,in, deg, , ,, , ,, grid, , , ,
Projection Setup, 0.000000000, 105.000000000, 1.000000000, 500000.00, 0.00,,,,,
Map Feature = MF ; Map Comment = MC These follow if they exist
Track File = TF These follow if they exist
Moving Map Parameters = MM? These follow if they exist
MM0,Yes
MMPNUM,4
MMPXY,1,169,246
MMPXY,2,3846,202
MMPXY,3,4009,4604
MMPXY,4,115,4648
MMPLL,1, 104.996221, 79.333752
MMPLL,2, 108.006333, 79.333998
MMPLL,3, 108.001544, 78.665951
MMPLL,4, 104.999380, 78.666042
MM1B,16.910352
Other Grid Setup
GRGRID,Yes,4 Km,No,16711680,255,4 Km,0,16777215,8,1,Yes,No,No,x
MOP,Map Open Position,0,0
IWH,Map Image Width/Height,4120,4774
